BEGIN:VCALENDAR
VERSION:2.0
PRODID:-//FC Nord Combraille - ECPv6.4.0.1//NONSGML v1.0//EN
CALSCALE:GREGORIAN
METHOD:PUBLISH
X-ORIGINAL-URL:https://www.fcnordcombraille.com
X-WR-CALDESC:évènements pour FC Nord Combraille
REFRESH-INTERVAL;VALUE=DURATION:PT1H
X-Robots-Tag:noindex
X-PUBLISHED-TTL:PT1H
BEGIN:VTIMEZONE
TZID:Europe/Paris
BEGIN:DAYLIGHT
TZOFFSETFROM:+0100
TZOFFSETTO:+0200
TZNAME:CEST
DTSTART:20240331T010000
END:DAYLIGHT
BEGIN:STANDARD
TZOFFSETFROM:+0200
TZOFFSETTO:+0100
TZNAME:CET
DTSTART:20241027T010000
END:STANDARD
END:VTIMEZONE
BEGIN:VEVENT
DTSTART;VALUE=DATE:20241101
DTEND;VALUE=DATE:20241201
DTSTAMP:20260425T055206
CREATED:20240411T095553Z
LAST-MODIFIED:20240514T064218Z
UID:4680-1730419200-1733011199@www.fcnordcombraille.com
SUMMARY:Repas Annuel
DESCRIPTION:Le rendez vous incontournable du club.
URL:https://www.fcnordcombraille.com/event/repas-annuel/
ATTACH;FMTTYPE=image/jpeg:https://www.fcnordcombraille.com/wp-content/uploads/2024/04/IMG_3666-scaled.jpeg
END:VEVENT
END:VCALENDAR